BEGIN:VCALENDAR
VERSION:2.0
PRODID:-//Saalfelden-Leogang.com//NONSGML kigkonsult.se iCalcreator 2.22.1/
 /DE
METHOD:PUBLISH
X-WR-CALNAME;LANGUAGE=de:Saalfelden-Leogang.com
X-WR-CALDESC;LANGUAGE=de:Saalfelden-Leogang.com
X-WR-TIMEZONE;LANGUAGE=de:Europe/Berlin
BEGIN:VEVENT
UID:20260425T191208CEST-8266vUC2pI@Saalfelden-Leogang.com
DTSTAMP:20260425T171208Z
DESCRIPTION;LANGUAGE=de:Spiegel Bestseller Lesung im Puradies:\n\nDie öster
 reichische Starautorin Ursula Poznanski stellt ab 20 Uhr Ihren neuen Krimi
 nalroman 'Böses Licht' in der Puradies Bibliothek vor.\n\nDer Eintritt ist
  frei\, um Anmeldung per Mail wird gebeten (begrenzte Platzanzahl).\n\ninf
 o@puradies.com\n\n\n\n'Böses Licht':\n\nMord im Burgtheater!\n\nTemporeich
 e und bühnenreife Höchstspannung von Ursula Poznanski:\n\nIm zweiten Wien-
 Krimi der SPIEGEL-Bestseller-Autorin steht Ermittlerin Fina Plank unfreiwi
 llig auf der ganz großen Bühne - es wird spannend!
DTSTART:20230930T180000Z
DTEND:20230930T200000Z
LOCATION;LANGUAGE=de:Puradies
SUMMARY;LANGUAGE=de:Lesung mit Starautorin Ursula Poznanski
END:VEVENT
END:VCALENDAR
